BEGIN:VCALENDAR
VERSION:2.0
PRODID:-//Tukios.com/
BEGIN:VEVENT
UID:ed34b062-8299-437e-a622-0a0a977f1dca@www.whitepinefunerals.com
DTSTAMP:20260423T041843Z
DTSTART:20260425T200000Z
DTEND:20260425T210000Z
SUMMARY:Funeral Service
DESCRIPTION:
URL:https://www.whitepinefunerals.com/obituaries/ronald-wallace
LOCATION: 455 East 100 South  Hyrum UT 84319
GEO:41.631151;-111.8427454
END:VEVENT
END:VCALENDAR