BEGIN:VCALENDAR
VERSION:2.0
PRODID:-//Tukios.com/
BEGIN:VEVENT
UID:2481a9e3-25dc-4dee-b2d0-bbcb5b77a7e0@www.whitepinefunerals.com
DTSTAMP:20260423T042410Z
DTSTART:20260425T183000Z
DTEND:20260425T193000Z
SUMMARY:Viewing
DESCRIPTION:
URL:https://www.whitepinefunerals.com/obituaries/ronald-wallace
LOCATION: 455 East 100 South  Hyrum UT 84319
GEO:41.631151;-111.8427454
END:VEVENT
END:VCALENDAR