BEGIN:VCALENDAR
VERSION:2.0
PRODID:-//Tukios.com/
BEGIN:VEVENT
UID:30212172-7d5e-49c1-ab11-82eeb5abe8e7@www.whitepinefunerals.com
DTSTAMP:20260423T042317Z
DTSTART:20260425T000000Z
DTEND:20260425T020000Z
SUMMARY:Viewing
DESCRIPTION:
URL:https://www.whitepinefunerals.com/obituaries/ronald-wallace
LOCATION: 455 East 100 South  Hyrum UT 84319
GEO:41.631151;-111.8427454
END:VEVENT
END:VCALENDAR