BEGIN:VCALENDAR
VERSION:2.0
PRODID:-//Tukios.com/
BEGIN:VEVENT
UID:d685c53a-a8f6-408c-bff7-04e4d9de6422@www.whitepinefunerals.com
DTSTAMP:20260425T005703Z
DTSTART:20260430T230000Z
DTEND:20260501T000000Z
SUMMARY:Memorial Service
DESCRIPTION:
URL:https://www.whitepinefunerals.com/obituaries/carol-flaspoehler
LOCATION:White Pine Funeral Home 753 South 100 East  Logan UT 84321
GEO:41.717952;-111.8315993
END:VEVENT
END:VCALENDAR