BEGIN:VCALENDAR
VERSION:2.0
PRODID:-//Tukios.com/
BEGIN:VEVENT
UID:86a58f3f-5618-42ee-9250-91ecdadb3090@www.whitepinefunerals.com
DTSTAMP:20260426T040742Z
DTSTART:20260501T170000Z
DTEND:20260501T180000Z
SUMMARY:Funeral Service
DESCRIPTION:
URL:https://www.whitepinefunerals.com/obituaries/a-marlene-cooper
LOCATION: 49 W 200 S  Wellsville UT 84339
GEO:41.635162;-111.9359006
END:VEVENT
END:VCALENDAR