BEGIN:VCALENDAR
VERSION:2.0
PRODID:-//Tukios.com/
BEGIN:VEVENT
UID:92b50f89-665b-45be-89f5-c22c5d6cefc5@www.whitepinefunerals.com
DTSTAMP:20260426T040053Z
DTSTART:20260501T150000Z
DTEND:20260501T163000Z
SUMMARY:Viewing
DESCRIPTION:
URL:https://www.whitepinefunerals.com/obituaries/a-marlene-cooper
LOCATION: 49 W 200 S  Wellsville UT 84339
GEO:41.635162;-111.9359006
END:VEVENT
END:VCALENDAR